BEGIN:VCALENDAR
VERSION:2.0
PRODID:-//hacksw/handcal//NONSGML v1.0//EN
BEGIN:VEVENT
DTSTAMP:20160418T130000Z
DTSTART:20160418T130000Z
DTEND:20160418T150000Z
LOCATION:Veranstaltungsort: Hotel Rellinger Hof Hauptstr. 31 25462 Rellingen, Deutschland
SUMMARY:Vortrag 
END:VEVENT
END:VCALENDAR
