BEGIN:VCALENDAR
VERSION:2.0
PRODID:-//hacksw/handcal//NONSGML v1.0//EN
BEGIN:VEVENT
DTSTAMP:20160111T140000Z
DTSTART:20160111T140000Z
DTEND:20160111T163000Z
LOCATION:CDU-Kreisgeschäftsstelle Pinneberg, Lindenstraße 19, Deutschland
SUMMARY:Kreisvorstandssitzung
END:VEVENT
END:VCALENDAR
