BEGIN:VCALENDAR
VERSION:2.0
PRODID:-//hacksw/handcal//NONSGML v1.0//EN
BEGIN:VEVENT
DTSTAMP:20161204T210500Z
DTSTART:20161204T210500Z
DTEND:20161204T210500Z
SUMMARY:Reise nach Mailand und die Lombardei
END:VEVENT
END:VCALENDAR
