BEGIN:VCALENDAR
VERSION:2.0
PRODID:-//hacksw/handcal//NONSGML v1.0//EN
BEGIN:VEVENT
DTSTAMP:20170423T202500Z
DTSTART:20170423T202500Z
DTEND:20170423T202500Z
SUMMARY:MAILAND ...UND DIE LOMBARDEI
END:VEVENT
END:VCALENDAR
