BEGIN:VCALENDAR
VERSION:2.0
PRODID:-//hacksw/handcal//NONSGML v1.0//EN
BEGIN:VEVENT
DTSTAMP:20170324T120000Z
DTSTART:20170324T120000Z
DTEND:20170324T120000Z
SUMMARY:2017 Jahresplan Kreisverband Pinneberg
END:VEVENT
END:VCALENDAR
