BEGIN:VCALENDAR
VERSION:2.0
PRODID:-//hacksw/handcal//NONSGML v1.0//EN
BEGIN:VEVENT
DTSTAMP:20170522T130000Z
DTSTART:20170522T130000Z
DTEND:20170522T150000Z
SUMMARY:Vortragsveranstaltung mit Ingo Gädechens MdB
END:VEVENT
END:VCALENDAR
