BEGIN:VCALENDAR
VERSION:2.0
PRODID:-//hacksw/handcal//NONSGML v1.0//EN
BEGIN:VEVENT
DTSTAMP:20170619T130000Z
DTSTART:20170619T130000Z
DTEND:20170619T150000Z
SUMMARY:Vortragsveranstaltung Dr. Michael von Abercron
END:VEVENT
END:VCALENDAR
