BEGIN:VCALENDAR
VERSION:2.0
PRODID:-//hacksw/handcal//NONSGML v1.0//EN
BEGIN:VEVENT
DTSTAMP:20171002T220000Z
DTSTART:20171002T220000Z
DTEND:20171002T220000Z
LOCATION:Quickborn, Am Freibad, 25451, Deutschland
SUMMARY:3. Oktober, Tag der deutschen Einheit (seit 1990)
END:VEVENT
END:VCALENDAR
