BEGIN:VCALENDAR
VERSION:2.0
PRODID:-//hacksw/handcal//NONSGML v1.0//EN
BEGIN:VEVENT
DTSTAMP:20170927T130000Z
DTSTART:20170927T130000Z
DTEND:20170927T150000Z
SUMMARY:Kreisvorstandssitzung der Senioren-Union
END:VEVENT
END:VCALENDAR
