BEGIN:VCALENDAR
VERSION:2.0
PRODID:-//hacksw/handcal//NONSGML v1.0//EN
BEGIN:VEVENT
DTSTAMP:20171102T140000Z
DTSTART:20171102T140000Z
DTEND:20171102T160000Z
SUMMARY:Kreisvorstandssitzung der Senioren-Union
END:VEVENT
END:VCALENDAR
