BEGIN:VCALENDAR
VERSION:2.0
PRODID:-//hacksw/handcal//NONSGML v1.0//EN
BEGIN:VEVENT
DTSTAMP:20180304T100000Z
DTSTART:20180304T100000Z
DTEND:20180304T120000Z
LOCATION:Hotel-Restaurant Rellinger Hof,  Hauptstraße 31, Rellingen, 25462, Deutschland
SUMMARY:Frühlingsempfang 2018
END:VEVENT
END:VCALENDAR
