BEGIN:VCALENDAR
VERSION:2.0
PRODID:-//hacksw/handcal//NONSGML v1.0//EN
BEGIN:VEVENT
DTSTAMP:20180528T130000Z
DTSTART:20180528T130000Z
DTEND:20180528T150000Z
LOCATION:Hotel-Restaurant Rellinger Hof, Hauptstraße 31, Rellingen, 25462, Deutschland
SUMMARY:Kreismitgliederversammlung der Senioren-Union
END:VEVENT
END:VCALENDAR
