BEGIN:VCALENDAR
VERSION:2.0
PRODID:-//hacksw/handcal//NONSGML v1.0//EN
BEGIN:VEVENT
DTSTAMP:20181203T140000Z
DTSTART:20181203T140000Z
DTEND:20181203T163000Z
LOCATION:Hotel-Restaurant Rellinger Hof, Hauptstraße 31,  Rellingen, 25462, Deutschland
SUMMARY:Traditionelle Adventsfeier der Senioren-Union
END:VEVENT
END:VCALENDAR
