BEGIN:VCALENDAR
VERSION:2.0
PRODID:-//hacksw/handcal//NONSGML v1.0//EN
BEGIN:VEVENT
DTSTAMP:20180920T130000Z
DTSTART:20180920T130000Z
DTEND:20180920T150000Z
SUMMARY:Vortrags-Veranstaltung mit Tobias Koch, Fraktionsvorsitzender
END:VEVENT
END:VCALENDAR
