BEGIN:VCALENDAR
VERSION:2.0
PRODID:-//hacksw/handcal//NONSGML v1.0//EN
BEGIN:VEVENT
DTSTAMP:20181008T130000Z
DTSTART:20181008T130000Z
DTEND:20181008T150000Z
SUMMARY:Vortrags-Veranstaltung zum Thema Patientenverfügung und Vorsorgevollmacht
END:VEVENT
END:VCALENDAR
