BEGIN:VCALENDAR
VERSION:2.0
PRODID:-//hacksw/handcal//NONSGML v1.0//EN
BEGIN:VEVENT
DTSTAMP:20190621T220000Z
DTSTART:20190621T220000Z
DTEND:20190628T220000Z
SUMMARY:Die grüne Insel vom 22. bis 29. Juni 2019
END:VEVENT
END:VCALENDAR
