BEGIN:VCALENDAR
VERSION:2.0
PRODID:-//hacksw/handcal//NONSGML v1.0//EN
BEGIN:VEVENT
DTSTAMP:20190427T220000Z
DTSTART:20190427T220000Z
DTEND:20190501T220000Z
SUMMARY:Reise ins Frankenland vom 28.04.-02.05.
END:VEVENT
END:VCALENDAR
