BEGIN:VCALENDAR
VERSION:2.0
PRODID:-//hacksw/handcal//NONSGML v1.0//EN
BEGIN:VEVENT
DTSTAMP:20190520T130000Z
DTSTART:20190520T130000Z
DTEND:20190520T150000Z
SUMMARY:Deutschlands Rolle im Sicherheitsrat der UNO Möglichkeiten und Grenzen
END:VEVENT
END:VCALENDAR
