BEGIN:VCALENDAR
VERSION:2.0
PRODID:-//hacksw/handcal//NONSGML v1.0//EN
BEGIN:VEVENT
DTSTAMP:20240430T220000Z
DTSTART:20240430T220000Z
DTEND:20240430T220000Z
LOCATION:Hamburger Rathaus, Rathausmarkt 1, Hamburg, 20095, Deutschland
SUMMARY:Besichtigung des Hamburger Rathaus und Alsterrundfahrt
END:VEVENT
END:VCALENDAR
