BEGIN:VCALENDAR
VERSION:2.0
PRODID:-//hacksw/handcal//NONSGML v1.0//EN
BEGIN:VEVENT
DTSTAMP:20240806T220000Z
DTSTART:20240806T220000Z
DTEND:20240806T220000Z
SUMMARY:Ausfahrt Wakenitz „Amazonas des Nordens“
END:VEVENT
END:VCALENDAR
