BEGIN:VCALENDAR
VERSION:2.0
PRODID:-//hacksw/handcal//NONSGML v1.0//EN
BEGIN:VEVENT
DTSTAMP:20241128T150000Z
DTSTART:20241128T150000Z
DTEND:20241128T150000Z
LOCATION:Zum Netzroller, Am Bahndamm 88, Halstenbek, 25469, Deutschland
SUMMARY:Jahresrückblick auf das Jahr 2024
END:VEVENT
END:VCALENDAR
