BEGIN:VCALENDAR
VERSION:2.0
PRODID:-//hacksw/handcal//NONSGML v1.0//EN
BEGIN:VEVENT
DTSTAMP:20250120T150000Z
DTSTART:20250120T150000Z
DTEND:20250120T150000Z
LOCATION:Jahreshauptversammlung „Im Winkel“, Langenmoor 41, Elmshorn, 25335, Deutschland
SUMMARY:Jahreshauptversammlung „Im Winkel“
END:VEVENT
END:VCALENDAR
