BEGIN:VCALENDAR
VERSION:2.0
PRODID:-//hacksw/handcal//NONSGML v1.0//EN
BEGIN:VEVENT
DTSTAMP:20250227T150000Z
DTSTART:20250227T150000Z
DTEND:20250227T150000Z
LOCATION:Zum Netzroller, Am Bahndamm 88, 25469, Halstenbek, Deutschland
SUMMARY:Mitgliederversammlung mit Wahlen im „Netzroller“
END:VEVENT
END:VCALENDAR
