BEGIN:VCALENDAR
VERSION:2.0
PRODID:-//hacksw/handcal//NONSGML v1.0//EN
BEGIN:VEVENT
DTSTAMP:20250303T230000Z
DTSTART:20250303T230000Z
DTEND:20250303T230000Z
LOCATION:Industriemuseum Elmshorn, Catharinenstraße 1, Elmshorn, 25335 , Deutschland
SUMMARY:Tagesausflug zum Industriemuseum Elmshorn
END:VEVENT
END:VCALENDAR
