BEGIN:VCALENDAR
VERSION:2.0
PRODID:-//hacksw/handcal//NONSGML v1.0//EN
BEGIN:VEVENT
DTSTAMP:20250402T220000Z
DTSTART:20250402T220000Z
DTEND:20250405T220000Z
SUMMARY:4-tägige Leipzig-Reise der Senioren Union Rellingen 
END:VEVENT
END:VCALENDAR
