BEGIN:VCALENDAR
VERSION:2.0
PRODID:-//hacksw/handcal//NONSGML v1.0//EN
BEGIN:VEVENT
DTSTAMP:20250319T150000Z
DTSTART:20250319T150000Z
DTEND:20250319T150000Z
SUMMARY:Monatstreffen um 16:00 Uhr im Netzroller
END:VEVENT
END:VCALENDAR
