BEGIN:VCALENDAR
VERSION:2.0
PRODID:-//hacksw/handcal//NONSGML v1.0//EN
BEGIN:VEVENT
DTSTAMP:20250514T130000Z
DTSTART:20250514T130000Z
DTEND:20250514T130000Z
LOCATION:Hotel Rellinger Hof, Hauptstraße 31, Rellingen, 25462, Deutschland
SUMMARY:Kreismitgliederversammlung mit Wahlen: Hier für die Einladung klicken!
END:VEVENT
END:VCALENDAR
